BEGIN:VCALENDAR
VERSION:2.0
PRODID:-//AFES//NONSGML v1.0//EN
CALSCALE:GREGORIAN
METHOD:PUBLISH
BEGIN:VEVENT
UID:69e5ab3d41af99.06334784@afes.org.au
DTSTAMP:20260420T042741Z
DTSTART:20260316T180000
DTEND:20260430T200000
SUMMARY:Monday Bible Talks
DESCRIPTION:
LOCATION:Islington Baptist Church
STATUS:CONFIRMED
END:VEVENT
END:VCALENDAR
