BEGIN:VCALENDAR
VERSION:2.0
PRODID:-//AFES//NONSGML v1.0//EN
CALSCALE:GREGORIAN
METHOD:PUBLISH
BEGIN:VEVENT
UID:69e5adefa779a7.48460055@afes.org.au
DTSTAMP:20260420T043911Z
DTSTART:20260318T120000
DTEND:20260430T130000
SUMMARY:Wednesday Bible Talks
DESCRIPTION:
LOCATION:VG01, Callaghan Campus
STATUS:CONFIRMED
END:VEVENT
END:VCALENDAR
