BEGIN:VCALENDAR
VERSION:2.0
PRODID:-//AFES//NONSGML v1.0//EN
CALSCALE:GREGORIAN
METHOD:PUBLISH
BEGIN:VEVENT
UID:69e5ab18cc1fb2.26155805@afes.org.au
DTSTAMP:20260420T042704Z
DTSTART:20260508T120000
DTEND:20260510T120000
SUMMARY:FOCUS Aussie Adventure
DESCRIPTION:
LOCATION:Dungog
STATUS:CONFIRMED
END:VEVENT
END:VCALENDAR
