BEGIN:VCALENDAR
VERSION:2.0
PRODID:-//AFES//NONSGML v1.0//EN
CALSCALE:GREGORIAN
METHOD:PUBLISH
BEGIN:VEVENT
UID:69e5c146707fd1.35976744@afes.org.au
DTSTAMP:20260420T060142Z
DTSTART:20260529T110000
DTEND:20260531T140000
SUMMARY:Coastie Camp 2026
DESCRIPTION:After its debut last year, Coastie Camp is BACK! It&#8217;s a great opportunity to hang out with friends and hear from God&#8217;s word about our identity in Christ. Come along from May 29 &#8211; 31 for a super chill couple of days together, enjoying nature, good company, and some encouragement from the Bible. It&#8217;s only [&hellip;]
LOCATION:Cooranbong
STATUS:CONFIRMED
END:VEVENT
END:VCALENDAR
