BEGIN:VCALENDAR
VERSION:2.0
PRODID:-//AFES//NONSGML v1.0//EN
CALSCALE:GREGORIAN
METHOD:PUBLISH
BEGIN:VEVENT
UID:69e5ab18a61c25.25424943@afes.org.au
DTSTAMP:20260420T042704Z
DTSTART:20260502T100000
DTEND:20260503T140000
SUMMARY:Brotherhood Camp 2026
DESCRIPTION:The men of NCS are going away on a boys weekend to do farm chores together, hang out in the beautiful countryside of Dungog, and encourage each other in the faith through encouraging each other with the Bible together. The weekend will cost roughly around $50. We will likely be staying indoors in a converted [&hellip;]
LOCATION:119 Quart Pot Creek Road, Underbank
STATUS:CONFIRMED
END:VEVENT
END:VCALENDAR
