BEGIN:VCALENDAR
VERSION:2.0
PRODID:-//AFES//NONSGML v1.0//EN
CALSCALE:GREGORIAN
METHOD:PUBLISH
BEGIN:VEVENT
UID:69e5ab3e440142.56134288@afes.org.au
DTSTAMP:20260420T042742Z
DTSTART:20260803T000000
DTEND:20260807T000000
SUMMARY:Wintercon 2026
DESCRIPTION:
LOCATION:Camp Elim, Foster
STATUS:CONFIRMED
END:VEVENT
END:VCALENDAR
